BEGIN:VCALENDAR
VERSION:2.0
PRODID:-//ChamberMaster//Event Calendar 2.0//EN
METHOD:PUBLISH
X-PUBLISHED-TTL:P3D
REFRESH-INTERVAL:P3D
CALSCALE:GREGORIAN
BEGIN:VEVENT
DTSTART:20140113T233000Z
DTEND:20140114T030000Z
X-MICROSOFT-CDO-ALLDAYEVENT:FALSE
SUMMARY:Portage Historical Society Annual Meeting
DESCRIPTION:The Portage Historical Society will hold its annual dinner on Jan 13 at Trails Lounge Supper Club\, 125 Wauona Trail\, Portage.  \n\n\n\nSocial hour begins at 5:30 PM with dinner at 6:30 PM.  \n\nAt 7:30 PM author Erika Janik will speak on her books "Odd Wisconsin" and "A Sort History of Wisconsin". The cost per meal is $16 including tax and tip.\n\n\n\nThe menu options are tilapia\, baked chicken or swiss steak. Call Kathy Rowley at 697-9631 or Peg Amend at 429-9214 by noon on January 10 with your reservations.
X-ALT-DESC;FMTTYPE=text/html:<span style="font-size: 12px"><span style="font-family: arial">The Portage Historical Society will hold its annual dinner on Jan 13 at Trails Lounge Supper Club\, 125 Wauona Trail\, Portage. &nbsp\;<br />\n<br />\nSocial hour begins at 5:30 PM with dinner at 6:30 PM. &nbsp\;<br />\nAt 7:30 PM author Erika Janik will speak on her books &quot\;Odd Wisconsin&quot\; and &quot\;A Sort History of Wisconsin&quot\;. The cost per meal is $16 including tax and tip.<br />\n<br />\nThe menu options are tilapia\, baked chicken or swiss steak. Call Kathy Rowley at 697-9631 or Peg Amend at 429-9214 by noon on January 10 with your reservations.</span></span><br />\n
LOCATION:Trail's Lounge Supper Club
UID:e.374.9385
SEQUENCE:3
DTSTAMP:20260422T215746Z
URL:https://business.portagewi.com/events/details/portage-historical-society-annual-meeting-01-13-2014-9385
END:VEVENT

END:VCALENDAR
