BEGIN:VCALENDAR
VERSION:2.0
PRODID:-//ChamberMaster//Event Calendar 2.0//EN
METHOD:PUBLISH
X-PUBLISHED-TTL:P3D
REFRESH-INTERVAL:P3D
CALSCALE:GREGORIAN
BEGIN:VEVENT
DTSTART:20150126T233000Z
DTEND:20150127T023000Z
X-MICROSOFT-CDO-ALLDAYEVENT:FALSE
SUMMARY:Portage Historical Society Annual Meeting
DESCRIPTION:The public is welcome. Our speaker will be Jim Gorman who is the contractor for the restoration of the Museum after the fire. Menu - choice of: Steamed Cod Swiss Steak Chicken Cordon Bleu Call to make Reservations
X-ALT-DESC;FMTTYPE=text/html:The public is welcome. Our speaker will be Jim Gorman who is the contractor for the restoration of the Museum after the fire. Menu - choice of: Steamed Cod Swiss Steak Chicken Cordon Bleu Call to make Reservations
LOCATION:Trail's Lounge - Portage
UID:e.374.11382
SEQUENCE:3
DTSTAMP:20260422T215857Z
URL:https://business.portagewi.com/events/details/portage-historical-society-annual-meeting-01-26-2015-11382
END:VEVENT

END:VCALENDAR
