BEGIN:VCALENDAR
VERSION:2.0
PRODID:-//ChamberMaster//Event Calendar 2.0//EN
METHOD:PUBLISH
X-PUBLISHED-TTL:P3D
REFRESH-INTERVAL:P3D
CALSCALE:GREGORIAN
BEGIN:VEVENT
DTSTART:20140423T180000Z
DTEND:20140423T200000Z
X-MICROSOFT-CDO-ALLDAYEVENT:FALSE
SUMMARY:Portage Memory Cafe
DESCRIPTION:A Memory Caf  is a social gathering place where individuals with memory loss\, mild cognitive impairment\, early Alzheimer's\, or other dementias\, can come together. The cafe meets monthly to visit\, share common interests\, and enjoy refreshments. Each monthly caf  is unique and offers a program or activity that?s fun and chosen by participants' interests. Family and friends are encouraged to come. If you require assistance to participate\, please have someone accompany you.
X-ALT-DESC;FMTTYPE=text/html:A Memory Caf&eacute\; is a social gathering place where individuals with memory loss\, mild cognitive impairment\, early Alzheimer&#39\;s\, or other dementias\, can come together. The cafe meets monthly to visit\, share common interests\, and enjoy refreshments. Each monthly caf&eacute\; is unique and offers a program or activity that?s fun and chosen by participants&#39\; interests. Family and friends are encouraged to come. If you require assistance to participate\, please have someone accompany you.
LOCATION:Portage Library 253 W. Edgewater Street\, Portage
UID:e.374.9751
SEQUENCE:3
DTSTAMP:20260422T170914Z
URL:https://business.portagewi.com/events/details/portage-memory-cafe-04-23-2014-9751
END:VEVENT

END:VCALENDAR
