BEGIN:VCALENDAR
VERSION:2.0
PRODID:-//ChamberMaster//Event Calendar 2.0//EN
METHOD:PUBLISH
X-PUBLISHED-TTL:P3D
REFRESH-INTERVAL:P3D
CALSCALE:GREGORIAN
BEGIN:VEVENT
DTSTART:20200610T160000Z
DTEND:20200611T010000Z
X-MICROSOFT-CDO-ALLDAYEVENT:FALSE
SUMMARY:Postponed - Chamber Golf Outing - 2020
DESCRIPTION:The Golf Outing has been postponed to July 8.\n\n\n\nThe 38th Annual Portage Area Chamber of Commerce Golf Outing will be on  Wednesday\,  July 8th at the Portage Country Club. Don't miss out on this great opportunity to network with many Chamber members.  \n\n\n\n9am - Pre-Game Activities Begin\n\n11am - Call to Carts for the Shotgun Start\n\n5pm -  post-game activities and networking  \n\n5:30pm - buffet style dinner at The NorthShore Restaurant
X-ALT-DESC;FMTTYPE=text/html:<div><span style="font-size: 14px\;"><span style="font-family: arial\;"><span style="color: black\;"><strong>The Golf Outing has been postponed to July 8.</strong><br />\n<br />\nThe&nbsp\;38th&nbsp\;</span>Annual Portage Area Chamber of Commerce Golf Outing&nbsp\;will be on&nbsp\;<font face="Arial"> Wednesday\, &nbsp\;July 8th&nbsp\;at the Portage Country Club.</font>&nbsp\;Don&#39\;t miss out on this great opportunity to network with many Chamber members.&nbsp\;&nbsp\;</span></span><br />\n<br />\n<span style="font-family: arial\;"><span style="font-size: 14px\;">9am - Pre-Game Activities Begin<br />\n11am - Call to Carts for the Shotgun Start</span><br />\n<span style="font-size: 11pt\;"><span style="font-size: 14px\;">5pm -&nbsp\;<font face="Arial">&nbsp\;post-game activities and networking&nbsp\;&nbsp\;<br />\n5:30pm -&nbsp\;</font>buffet style dinner at&nbsp\;The NorthShore Restaurant</span><br />\n&nbsp\;&nbsp\;</span></span><br />\n&nbsp\;</div>\n
LOCATION:
UID:e.374.26488
SEQUENCE:3
DTSTAMP:20260420T015047Z
URL:https://business.portagewi.com/events/details/postponed-chamber-golf-outing-2020-26488
END:VEVENT

END:VCALENDAR
