BEGIN:VCALENDAR
VERSION:2.0
PRODID:-//ChamberMaster//Event Calendar 2.0//EN
METHOD:PUBLISH
X-PUBLISHED-TTL:P3D
REFRESH-INTERVAL:P3D
CALSCALE:GREGORIAN
BEGIN:VEVENT
DTSTART;VALUE=DATE:20201203
DTEND;VALUE=DATE:20201224
TRANSP:TRANSPARENT
X-MICROSOFT-CDO-ALLDAYEVENT:TRUE
SUMMARY:Private Shopping with Fancy Pants & Smart Woman
DESCRIPTION:With the holidays upon us we are happy to provide a private shopping experience.  We would be happy to accommodate.  If you would like a stay at home experience we are happy to FaceTime with you and show you many items.  We can ship or do curbside pick-up.  Remember we also gift wrap! (608) 742-5711\n\n\n\nFancy Pant 124 West Cook\n\nSmart Woman 120 West Cook\n\nSmart Woman Shoes & Accessories  201 West Cook Street
X-ALT-DESC;FMTTYPE=text/html:<span style="font-size:14px\;"><span style="font-family:arial\;">With the holidays upon us we are happy to provide a private shopping experience.&nbsp\; We would be happy to accommodate.&nbsp\; If you would like a stay at home experience we are happy to FaceTime with you and show you many items.&nbsp\; We can ship or do curbside pick-up.&nbsp\; Remember we also gift wrap!&nbsp\;(608) 742-5711<br />\n<br />\nFancy Pant 124 West Cook<br />\nSmart Woman 120 West Cook<br />\nSmart Woman Shoes &amp\; Accessories&nbsp\; 201 West Cook Street</span></span>
LOCATION:
UID:e.374.27995
SEQUENCE:3
DTSTAMP:20260422T084752Z
URL:https://business.portagewi.com/events/details/private-shopping-with-fancy-pants-smart-woman-27995
END:VEVENT

END:VCALENDAR
