BEGIN:VCALENDAR
VERSION:2.0
PRODID:-//ChamberMaster//Event Calendar 2.0//EN
METHOD:PUBLISH
X-PUBLISHED-TTL:P3D
REFRESH-INTERVAL:P3D
CALSCALE:GREGORIAN
BEGIN:VEVENT
DTSTART;VALUE=DATE:20201003
DTEND;VALUE=DATE:20201004
TRANSP:TRANSPARENT
X-MICROSOFT-CDO-ALLDAYEVENT:TRUE
SUMMARY:Pumpkin Blowout at Festival Foods
DESCRIPTION:Pumpkin Blowout is coming up! It will be held 8 a.m.-5 p.m. on Saturday\, Oct. 3rd.\n\nIt will look different this year (no activities for the kids)\, but we'll still have a great selection of pumpkins at low prices. Details: https://festvl.com/2fbf8IW
X-ALT-DESC;FMTTYPE=text/html:<span style="font-size:14px\;"><span style="font-family:arial\;"><span class="d2edcug0 hpfvmrgz qv66sw1b c1et5uql rrkovp55 a8c37x1j keod5gw0 nxhoafnm aigsh9s9 d3f4x2em fe6kdd0r mau55g9w c8b282yb iv3no6db jq4qci2q a3bd9o3v knj5qynh oo9gr5id hzawbc8m" dir="auto">Pumpkin Blowout is coming up! It will be held 8 a.m.-5 p.m. on Saturday\, Oct. 3rd.<br />\nIt will look different this year (no activities for the kids)\, but we&#39\;ll still have a great selection of pumpkins at low prices. Details: <a class="oajrlxb2 g5ia77u1 qu0x051f esr5mh6w e9989ue4 r7d6kgcz rq0escxv nhd2j8a9 nc684nl6 p7hjln8o kvgmc6g5 cxmmr5t8 oygrvhab hcukyx3x jb3vyjys rz4wbd8a qt6c0cv9 a8nywdso i1ao9s8h esuyzwwr f1sip0of lzcic4wl py34i1dx gpro0wi8" href="https://festvl.com/2fbf8IW?fbclid=IwAR0xcHZiHrAYrJcCxuODUmZ7igOOAos4yt9UXm0u6w8SyAcJwiRHGWc1gLk" rel="nofollow noopener" role="link" tabindex="0" target="_blank">https://festvl.com/2fbf8IW</a></span></span></span><br />\n&nbsp\;
LOCATION:Festival Foods 2915 New Pinery Road Portage\, WI 53901
UID:e.374.27854
SEQUENCE:3
DTSTAMP:20260422T071008Z
URL:https://business.portagewi.com/events/details/pumpkin-blowout-at-festival-foods-27854
END:VEVENT

END:VCALENDAR
