BEGIN:VCALENDAR
VERSION:2.0
PRODID:-//ChamberMaster//Event Calendar 2.0//EN
METHOD:PUBLISH
X-PUBLISHED-TTL:P3D
REFRESH-INTERVAL:P3D
CALSCALE:GREGORIAN
BEGIN:VEVENT
DTSTART:20201013T140000Z
DTEND:20201013T141500Z
X-MICROSOFT-CDO-ALLDAYEVENT:FALSE
SUMMARY:Ribbon Cutting at OCD Graphix in Poynette
DESCRIPTION:Join us at OCD Graphix as we welcome them as a new member of the Chamber of Commerce and celebrate their new location in Poynette.
X-ALT-DESC;FMTTYPE=text/html:<span style="font-size: 16px\;"><span style="font-family: arial\;">Join us at OCD Graphix as we welcome them as a new member of the&nbsp\;Chamber&nbsp\;of Commerce and celebrate their new location in Poynette. </span></span><br />\n<br />\n<br />\n&nbsp\;
LOCATION:105 North Main Street Poynette\, WI
UID:e.374.27849
SEQUENCE:3
DTSTAMP:20260422T052807Z
URL:https://business.portagewi.com/events/details/ribbon-cutting-at-ocd-graphix-in-poynette-27849
END:VEVENT

END:VCALENDAR
