BEGIN:VCALENDAR
VERSION:2.0
PRODID:-//ChamberMaster//Event Calendar 2.0//EN
METHOD:PUBLISH
X-PUBLISHED-TTL:P3D
REFRESH-INTERVAL:P3D
CALSCALE:GREGORIAN
BEGIN:VEVENT
DTSTART;VALUE=DATE:20201207
DTEND;VALUE=DATE:20201214
TRANSP:TRANSPARENT
X-MICROSOFT-CDO-ALLDAYEVENT:TRUE
SUMMARY:River Haven Fundraiser
DESCRIPTION:Deadline is 8pm on Sunday December 13th!\n\nWho LOVES Pizza Ranch Pizza?! Now you can get Pizza Ranch pizzas and support River Haven! \n\nIt's so easy\, just click this link\, order your pizzas and pay online\, pick up December 17-18 at River Haven and every purchase supports the shelter! Hurry though\, ordering ends December 13th!\n\nhttps://pizzaranchorder.com/towndrop/e4bcd9
X-ALT-DESC;FMTTYPE=text/html:<span style="font-family:helvetica\,sans-serif\;"><span style="font-size:12.0pt\;">Deadline is 8pm on Sunday December 13th!</span></span><br />\n<span style="font-family:helvetica\,sans-serif\;"><span style="font-size:12.0pt\;">Who LOVES Pizza Ranch Pizza?! Now you can get Pizza Ranch pizzas and support River Haven! </span></span><br />\n<span style="font-family:helvetica\,sans-serif\;"><span style="font-size:12.0pt\;">It&#39\;s so easy\, just click this link\, order your pizzas and pay online\, pick up December 17-18 at River Haven and every purchase supports the shelter! Hurry though\, ordering ends December 13th!</span></span><br />\n<span style="font-family:helvetica\,sans-serif\;"><span style="font-size:12.0pt\;"><a href="https://pizzaranchorder.com/towndrop/e4bcd9?fbclid=IwAR2DxObXkaNTswtbVNJOyN1b7MEZfAv5DEsv-g4_5r1K0Y-G0pG3Xj_9S9w" target="_blank">https://pizzaranchorder.com/towndrop/e4bcd9</a></span></span><br />\n&nbsp\;
LOCATION:
UID:e.374.27998
SEQUENCE:3
DTSTAMP:20260422T083655Z
URL:https://business.portagewi.com/events/details/river-haven-fundraiser-27998
END:VEVENT

END:VCALENDAR
