BEGIN:VCALENDAR
VERSION:2.0
PRODID:-//ChamberMaster//Event Calendar 2.0//EN
METHOD:PUBLISH
X-PUBLISHED-TTL:P3D
REFRESH-INTERVAL:P3D
CALSCALE:GREGORIAN
BEGIN:VEVENT
DTSTART:20200608T170000Z
DTEND:20200608T180000Z
X-MICROSOFT-CDO-ALLDAYEVENT:FALSE
SUMMARY:Rotary Meeting
DESCRIPTION:Check the Portage Rotary Facebook page for specific details to confirm if they are meeting today.  (www.facebook.com/RotaryClubofPortage) \n\n\n\nCome join Rotary for lunch every Monday at Dino's Restaurant at Noon (with some exceptions).
X-ALT-DESC;FMTTYPE=text/html:<span style="color:black\;"><span style="font-family:tahoma\,sans-serif\;"><span style="font-size:12.0pt\;">Check the Portage Rotary Facebook page for specific details to confirm if they are meeting today.&nbsp\; (<a href="http://www.facebook.com/RotaryClubofPortage">www.facebook.com/RotaryClubofPortage</a>) </span></span></span><br />\n<br />\nCome join Rotary for lunch every Monday at Dino&#39\;s Restaurant at Noon (with some exceptions).
LOCATION:Dino's Restaurant 2900 New Pinery Road Portage
UID:e.374.27401
SEQUENCE:3
DTSTAMP:20260420T015140Z
URL:https://business.portagewi.com/events/details/rotary-meeting-06-08-2020-27401
END:VEVENT

END:VCALENDAR
