BEGIN:VCALENDAR
VERSION:2.0
PRODID:-//ChamberMaster//Event Calendar 2.0//EN
METHOD:PUBLISH
X-PUBLISHED-TTL:P3D
REFRESH-INTERVAL:P3D
CALSCALE:GREGORIAN
BEGIN:VEVENT
DTSTART:20201212T220000Z
DTEND:20201213T010000Z
X-MICROSOFT-CDO-ALLDAYEVENT:FALSE
SUMMARY:Santa Claus Comes To Stock+Field
DESCRIPTION:Come welcome Santa Claus at our drive-thru.  Follow the lights around the fence to the side lot. Santa will be accepting letters and safely handing out treats.  Outdoor photo opportunities will be available.  Food pantry donations are recommended.
X-ALT-DESC;FMTTYPE=text/html:Come welcome Santa Claus at our drive-thru.&nbsp\; Follow the lights around the fence to the side lot. Santa will be accepting letters and safely handing out treats.&nbsp\; Outdoor photo opportunities will be available.&nbsp\; Food pantry donations are recommended. &nbsp\;
LOCATION:2935 New Pinery Road Portage\, WI 53901 608-472-4965
UID:e.374.27999
SEQUENCE:3
DTSTAMP:20260422T084828Z
URL:https://business.portagewi.com/events/details/santa-claus-comes-to-stock-field-27999
END:VEVENT

END:VCALENDAR
