BEGIN:VCALENDAR
VERSION:2.0
PRODID:-//ChamberMaster//Event Calendar 2.0//EN
METHOD:PUBLISH
X-PUBLISHED-TTL:P3D
REFRESH-INTERVAL:P3D
CALSCALE:GREGORIAN
BEGIN:VEVENT
DTSTART;VALUE=DATE:20111125
DTEND;VALUE=DATE:20111126
TRANSP:TRANSPARENT
X-MICROSOFT-CDO-ALLDAYEVENT:TRUE
SUMMARY:Santa Fly-In at the Portage Airport for 2011
DESCRIPTION:Come help welcome Santa as he arrives at  the Portage Airport.
X-ALT-DESC;FMTTYPE=text/html:Come help welcome Santa as he arrives at  the Portage Airport. 
LOCATION:
UID:e.374.3706
SEQUENCE:3
DTSTAMP:20260422T173247Z
URL:https://business.portagewi.com/events/details/santa-fly-in-at-the-portage-airport-for-2011-11-25-2011-3706
END:VEVENT

END:VCALENDAR
