BEGIN:VCALENDAR
VERSION:2.0
PRODID:-//ChamberMaster//Event Calendar 2.0//EN
METHOD:PUBLISH
X-PUBLISHED-TTL:P3D
REFRESH-INTERVAL:P3D
CALSCALE:GREGORIAN
BEGIN:VEVENT
DTSTART;VALUE=DATE:20121123
DTEND;VALUE=DATE:20121124
TRANSP:TRANSPARENT
X-MICROSOFT-CDO-ALLDAYEVENT:TRUE
SUMMARY:Santa Fly-In at the Portage Airport for 2012
DESCRIPTION:Come help welcome Santa as he arrives at the Portage Airport at 10am.\n\n\n\nDivine Savior Healthcare\, along with the Dean and UW Clinics\, is pleased to launch our Leaps Toward Literacy program with Santa Claus on Friday.  Santa will deliver books to the first 100 children.\n\nIn addition\, starting December 1st\, each child age 0-12 will receive a book at any well-child\, Urgent Care\, Emergency Room or Inpatient Surgery visit at Divine Savior Healthcare and the Dean and UW Clinics. This program is being funded by the Medical Staff.
X-ALT-DESC;FMTTYPE=text/html:Come help welcome Santa as he arrives at the Portage Airport at 10am.<br />\n<br />\n<span style="font-size: 12px"><span style="font-family: arial">Divine Savior Healthcare\, along with the Dean and UW Clinics\, is pleased to launch our Leaps Toward Literacy program with Santa Claus on Friday.&nbsp\;&nbsp\;Santa will deliver books to the first 100 children.<br />\nIn addition\, starting December 1<sup>st</sup>\, each child age 0-12 will receive a book at any well-child\, Urgent Care\, Emergency Room or Inpatient Surgery visit at Divine Savior Healthcare and the Dean and UW Clinics. This program is being funded by the Medical Staff. </span></span><br />\n
LOCATION:
UID:e.374.6123
SEQUENCE:3
DTSTAMP:20260423T115623Z
URL:https://business.portagewi.com/events/details/santa-fly-in-at-the-portage-airport-for-2012-11-23-2012-6123
END:VEVENT

END:VCALENDAR
