BEGIN:VCALENDAR
VERSION:2.0
PRODID:-//ChamberMaster//Event Calendar 2.0//EN
METHOD:PUBLISH
X-PUBLISHED-TTL:P3D
REFRESH-INTERVAL:P3D
CALSCALE:GREGORIAN
BEGIN:VEVENT
DTSTART;VALUE=DATE:20131129
DTEND;VALUE=DATE:20131130
TRANSP:TRANSPARENT
X-MICROSOFT-CDO-ALLDAYEVENT:TRUE
SUMMARY:Santa Fly-In at the Portage Airport for 2013
DESCRIPTION:Come help welcome Santa as he arrives at the Portage Airport at 10am.
X-ALT-DESC;FMTTYPE=text/html:Come help welcome Santa as he arrives at the Portage Airport at 10am.<br />\n<br />\n
LOCATION:
UID:e.374.7633
SEQUENCE:3
DTSTAMP:20260423T011215Z
URL:https://business.portagewi.com/events/details/santa-fly-in-at-the-portage-airport-for-2013-11-29-2013-7633
END:VEVENT

END:VCALENDAR
