BEGIN:VCALENDAR
VERSION:2.0
PRODID:-//ChamberMaster//Event Calendar 2.0//EN
METHOD:PUBLISH
X-PUBLISHED-TTL:P3D
REFRESH-INTERVAL:P3D
CALSCALE:GREGORIAN
BEGIN:VEVENT
DTSTART:20201022T130000Z
DTEND:20201024T010000Z
X-MICROSOFT-CDO-ALLDAYEVENT:FALSE
SUMMARY:Save the Grandstand Auction
DESCRIPTION:Save the Grandstand on-line Auction on Facebook!\n\nOctober 22 & 23  8am to 8pm\n\nBid in real time on a variety of gift baskets and gift certificates from your favorite businesses in Portage and the surrounding area!\n\n\n\nJoin the Save the Grandstand Facebook page today!\n\nA non-profit organization raising funds to refurbish and restore the grandstand at the Columbia County Fairgrounds.
X-ALT-DESC;FMTTYPE=text/html:<p><strong>Save the Grandstand on-line Auction on Facebook!<br />\n<strong>October 22 &amp\; 23&nbsp\; </strong>8am to 8pm</strong></p>\n\n<p><strong>Bid in&nbsp\;real time on a variety of gift baskets and gift certificates from your favorite businesses in Portage and the surrounding area!<br />\n<br />\nJoin the Save the Grandstand Facebook page today!</strong></p>\n\n<p><strong><em>A non-profit organization raising funds to refurbish and restore the grandstand at the Columbia County Fairgrounds.&nbsp\;&nbsp\;&nbsp\;</em></strong></p>\n
LOCATION:
UID:e.374.27917
SEQUENCE:3
DTSTAMP:20260422T053949Z
URL:https://business.portagewi.com/events/details/save-the-grandstand-auction-27917
END:VEVENT

END:VCALENDAR
