BEGIN:VCALENDAR
VERSION:2.0
PRODID:-//ChamberMaster//Event Calendar 2.0//EN
METHOD:PUBLISH
X-PUBLISHED-TTL:P3D
REFRESH-INTERVAL:P3D
CALSCALE:GREGORIAN
BEGIN:VEVENT
DTSTART:20110210T180000Z
DTEND:20110210T190000Z
X-MICROSOFT-CDO-ALLDAYEVENT:FALSE
SUMMARY:Senator Kohl's Regional Rep. to Hold Office Hours in Portage
DESCRIPTION:U.S. Senator Herb Kohl's Regional Representative\, Darcy Luoma\, will be in Portage on Thursday\, February 10 to meet with constituents at the Portage Public Library. "If you are having a problem with a federal program or agency\, or have an opinion on an issue before Congress\, please let me know by meeting with my Regional Representative\, Darcy Luoma\," Kohl said. Ms. Luoma may also be contacted at Kohl's regional office at 14 W. Mifflin St.\, Suite 207\, in Madison\, WI 53703. The telephone number is 608-264-5338.
X-ALT-DESC;FMTTYPE=text/html:<p>\n	U.S. Senator Herb Kohl&#39\;s Regional Representative\, Darcy Luoma\, will be in Portage on Thursday\, February 10 to meet with constituents at the Portage Public Library. &quot\;If you are having a problem with a federal program or agency\, or have an opinion on an issue before Congress\, please let me know by meeting with my Regional Representative\, Darcy Luoma\,&quot\; Kohl said. Ms. Luoma may also be contacted at Kohl&#39\;s regional office at 14 W. Mifflin St.\, Suite 207\, in Madison\, WI 53703. The telephone number is 608-264-5338.</p>\n
LOCATION:Portage Public Library\, Sanderson Room 253 W. Edgewater St. Portage\, WI 53901
UID:e.374.3926
SEQUENCE:3
DTSTAMP:20260423T035422Z
URL:https://business.portagewi.com/events/details/senator-kohl-s-regional-rep-to-hold-office-hours-in-portage-02-10-2011-3926
END:VEVENT

END:VCALENDAR
