BEGIN:VCALENDAR
VERSION:2.0
PRODID:-//ChamberMaster//Event Calendar 2.0//EN
METHOD:PUBLISH
X-PUBLISHED-TTL:P3D
REFRESH-INTERVAL:P3D
CALSCALE:GREGORIAN
BEGIN:VEVENT
DTSTART:20120417T153000Z
DTEND:20120417T170000Z
X-MICROSOFT-CDO-ALLDAYEVENT:FALSE
SUMMARY:Senator Kohl's Regional Rep. to Hold Office Hours in Portage
DESCRIPTION:Regional Representative of U.S. Senator Herb Kohl to Hold Office Hours in Portage on April 17th \n\n	\n\n	Session to Focus on Farm Bill\n\n	U.S. Senator Herb Kohl's Regional Representative\, Colleene Thomas\, will be in Portage on Tuesday\, April 17th to meet with constituents from 10:30 a.m. to 12:00 p.m. at the Portage Public Library\, 253 West Edgewater Street\, in the Bidwell Room. No appointment is necessary.\n\n	 \n\n	"As Congress debates the 2012 Farm Bill\, I will rely\, as I always have\, on feedback from people across our state.  I invite you to stop by and share your thoughts or if you are having a problem with a federal program or agency\, please let me know by meeting with my Regional Representative\, Colleene Thomas\," Kohl said.\n\n	 \n\n	Ms. Thomas can also be contacted at Kohl's regional office at 14 W. Mifflin St.\, Suite 207\, in Madison\, WI 53703.  Her telephone number is (608) 264-5338 and email address is colleene_thomas@kohl.senate.gov.\n\n	 \n\n	WHAT: Senator Kohl's Regional Representative to Hold Office Hours in Portage\n\n	 \n\n	WHEN: 10:30 a.m. to 12:00 p.m. Tuesday\, April 17th \n\n	 \n\n	WHERE: Portage Public Library Bidwell Room\, 253 West Edgewater Street\, Portage\, WI
X-ALT-DESC;FMTTYPE=text/html:<p>\n	<span style="font-size: 12px"><span style="font-family: arial"><strong>Regional Representative of U.S. Senator Herb Kohl </strong><strong>to Hold Office Hours in Portage on April 17<sup>th</sup>&nbsp\;</strong><br />\n	<br />\n	<strong><em>Session to Focus on Farm Bill</em></strong><br />\n	U.S. Senator Herb Kohl&rsquo\;s Regional Representative\, Colleene Thomas\, will be in Portage on Tuesday\, April 17<sup>th</sup> to meet with constituents from 10:30 a.m. to 12:00 p.m. at the Portage Public Library\, 253 West Edgewater Street\, in the Bidwell Room. No appointment is necessary.<br />\n	&nbsp\;<br />\n	&quot\;As Congress debates the 2012 Farm Bill\, I will rely\, as I always have\, on feedback from people across our state.&nbsp\; I invite you to stop by and share your thoughts or if you are having a problem with a federal program or agency\, please let me know by meeting with my Regional Representative\, Colleene Thomas\,&rdquo\; Kohl said.<br />\n	&nbsp\;<br />\n	Ms. Thomas can also be contacted at Kohl&rsquo\;s regional office at 14 W. Mifflin St.\, Suite 207\, in Madison\, WI 53703.&nbsp\; Her telephone number is (608) 264-5338 and email address is <a href="mailto:colleene_thomas@kohl.senate.gov">colleene_thomas@kohl.senate.gov</a>.<br />\n	&nbsp\;<br />\n	<strong>WHAT: Senator Kohl&rsquo\;s Regional Representative to Hold Office Hours in Portage</strong><br />\n	&nbsp\;<br />\n	<strong>WHEN: 10:30 a.m. to 12:00 p.m. Tuesday\, April 17<sup>th</sup> </strong><br />\n	&nbsp\;<br />\n	<strong>WHERE: Portage Public Library Bidwell Room\, 253 West Edgewater Street\, Portage\, WI</strong></span></span><br />\n	&nbsp\;</p>\n
LOCATION:
UID:e.374.6747
SEQUENCE:3
DTSTAMP:20260423T011140Z
URL:https://business.portagewi.com/events/details/senator-kohl-s-regional-rep-to-hold-office-hours-in-portage-04-17-2012-6747
END:VEVENT

END:VCALENDAR
