BEGIN:VCALENDAR
VERSION:2.0
PRODID:-//ChamberMaster//Event Calendar 2.0//EN
METHOD:PUBLISH
X-PUBLISHED-TTL:P3D
REFRESH-INTERVAL:P3D
CALSCALE:GREGORIAN
BEGIN:VEVENT
DTSTART;VALUE=DATE:20201114
DTEND;VALUE=DATE:20201115
TRANSP:TRANSPARENT
X-MICROSOFT-CDO-ALLDAYEVENT:TRUE
SUMMARY:St. Mary Knight in Shining Armor (un)Gala
DESCRIPTION:St. Mary Knight in Shining Armor (un)Gala is the biggest event for the parish and school community and it kicks off November 9th with a silent auction and mystery bag sale. Purchase a mystery bag for $20 (while they last) at the Parish Center.\n\n\n\nStarting on November 9th you will be able to participate in the silent auction and view/bid on selected auction items. \n\n\n\nThe Big Live Auction will be on Saturday\, November 14th. The Gala is an event that would not be possible without the generosity of so many businesses and individuals. Thank you for your support. View the auction here. GALA AUCTION ITEMS
X-ALT-DESC;FMTTYPE=text/html:<span style="font-size:14px\;"><span style="font-family:arial\;"><span style="color: rgb(0\, 0\, 0)\;">St. Mary Knight in Shining Armor (un)Gala is the biggest event for the parish and school community and it kicks off November 9th with a silent auction and mystery bag sale. Purchase a mystery bag for $20 (while they last) at t</span>he Parish Center.<br />\n<br />\n<span style="color: rgb(0\, 0\, 0)\;">Starting on November 9th you will be able to participate in the silent auction and view/bid on selected auction items.&nbsp\;<br />\n<br />\nThe Big Live Auction will be on Saturday\, November 14th. The Gala is an event that would not be possible without the generosity of so many businesses and individuals. Thank you for your support. View the auction here. </span><a data-link-type="web" href="https://www.stmaryportage.org/gala/?fbclid=IwAR01rjQiKqaCAv5o2RAxPaZQf5Z8d_B_hmQgLSU8tPKAzdcf2lf-RnBEIPI" rel="noopener noreferrer" target="_blank">GALA AUCTION ITEMS</a></span></span>\n<div style="text-align: justify\;">&nbsp\;</div>\n
LOCATION:
UID:e.374.27950
SEQUENCE:3
DTSTAMP:20260422T084341Z
URL:https://business.portagewi.com/events/details/st-mary-knight-in-shining-armor-un-gala-27950
END:VEVENT

END:VCALENDAR
