BEGIN:VCALENDAR
VERSION:2.0
PRODID:-//ChamberMaster//Event Calendar 2.0//EN
METHOD:PUBLISH
X-PUBLISHED-TTL:P3D
REFRESH-INTERVAL:P3D
CALSCALE:GREGORIAN
BEGIN:VEVENT
DTSTART:20201206T010000Z
DTEND:20201206T030000Z
X-MICROSOFT-CDO-ALLDAYEVENT:FALSE
SUMMARY:St. Mary School Virtual Trivia Night
DESCRIPTION:St. Mary School Virtual Trivia Night\n\nThe popular trivia nights are back - live and online\, where you can participate from the comfort of your own home on Saturday\, December 5 from 7pm to 9pm. \n\n \n\nThis event is brought to you by the St. Mary Home & School committee (in partnership with "Andrew's Bar Exam") as a community event and fundraiser to refresh the school playground. A $10 donation is requested per household\, payable electronically during the event. Form your "quaran-teams" today\, pick a captain\, and have them pre-register here: \n\nhttps://www.stmaryportage.org/trivia-night/.
X-ALT-DESC;FMTTYPE=text/html:<div style="color: rgb(64\, 63\, 66)\; font-family: Arial\, Verdana\, Helvetica\, sans-serif\; font-size: 12px\; font-style: normal\; font-variant-ligatures: normal\; font-variant-caps: normal\; font-weight: 400\; letter-spacing: normal\; orphans: 2\; text-align: left\; text-indent: 0px\; text-transform: none\; white-space: pre-wrap\; widows: 2\; word-spacing: 0px\; -webkit-text-stroke-width: 0px\; background-color: rgb(255\, 255\, 255)\; text-decoration-style: initial\; text-decoration-color: initial\;"><span style="font-size: 16px\; color: rgb(9\, 163\, 186)\; font-weight: bold\;">St. Mary School Virtual Trivia Night</span></div>\n\n<div style="color: rgb(64\, 63\, 66)\; font-family: Arial\, Verdana\, Helvetica\, sans-serif\; font-size: 12px\; font-style: normal\; font-variant-ligatures: normal\; font-variant-caps: normal\; font-weight: 400\; letter-spacing: normal\; orphans: 2\; text-align: left\; text-indent: 0px\; text-transform: none\; white-space: pre-wrap\; widows: 2\; word-spacing: 0px\; -webkit-text-stroke-width: 0px\; background-color: rgb(255\, 255\, 255)\; text-decoration-style: initial\; text-decoration-color: initial\;"><span style="font-size: 12px\; color: rgb(0\, 0\, 0)\;">The popular trivia nights are back - live and online\, where you can participate from the comfort of your own home on Saturday\, December 5 from 7pm to 9pm. </span></div>\n\n<div style="color: rgb(64\, 63\, 66)\; font-family: Arial\, Verdana\, Helvetica\, sans-serif\; font-size: 12px\; font-style: normal\; font-variant-ligatures: normal\; font-variant-caps: normal\; font-weight: 400\; letter-spacing: normal\; orphans: 2\; text-align: left\; text-indent: 0px\; text-transform: none\; white-space: pre-wrap\; widows: 2\; word-spacing: 0px\; -webkit-text-stroke-width: 0px\; background-color: rgb(255\, 255\, 255)\; text-decoration-style: initial\; text-decoration-color: initial\;">&nbsp\;</div>\n\n<div style="color: rgb(64\, 63\, 66)\; font-family: Arial\, Verdana\, Helvetica\, sans-serif\; font-size: 12px\; font-style: normal\; font-variant-ligatures: normal\; font-variant-caps: normal\; font-weight: 400\; letter-spacing: normal\; orphans: 2\; text-align: left\; text-indent: 0px\; text-transform: none\; white-space: pre-wrap\; widows: 2\; word-spacing: 0px\; -webkit-text-stroke-width: 0px\; background-color: rgb(255\, 255\, 255)\; text-decoration-style: initial\; text-decoration-color: initial\;"><span style="font-size: 12px\; color: rgb(0\, 0\, 0)\;">This event is brought to you by the St. Mary Home &amp\; School committee (in partnership with &ldquo\;Andrew&rsquo\;s Bar Exam&rdquo\;) as a community event and fundraiser to refresh the school playground. A $10 donation is requested per household\, payable electronically during the event. Form your &quot\;quaran-teams&quot\; today\, pick a captain\, and have them pre-register here: </span></div>\n\n<div style="color: rgb(64\, 63\, 66)\; font-family: Arial\, Verdana\, Helvetica\, sans-serif\; font-size: 12px\; font-style: normal\; font-variant-ligatures: normal\; font-variant-caps: normal\; font-weight: 400\; letter-spacing: normal\; orphans: 2\; text-align: left\; text-indent: 0px\; text-transform: none\; white-space: pre-wrap\; widows: 2\; word-spacing: 0px\; -webkit-text-stroke-width: 0px\; background-color: rgb(255\, 255\, 255)\; text-decoration-style: initial\; text-decoration-color: initial\;"><a data-link-type="web" href="https://www.stmaryportage.org/trivia-night/" rel="noopener noreferrer" style="text-decoration: underline\; color: rgb(0\, 0\, 0)\; font-weight: normal\; font-style: normal\;" target="_blank">https://www.stmaryportage.org/trivia-night/</a><span style="color: rgb(0\, 0\, 0)\;">.</span></div>\n
LOCATION:
UID:e.374.27991
SEQUENCE:3
DTSTAMP:20260422T101142Z
URL:https://business.portagewi.com/events/details/st-mary-school-virtual-trivia-night-27991
END:VEVENT

END:VCALENDAR
