BEGIN:VCALENDAR
VERSION:2.0
PRODID:-//ChamberMaster//Event Calendar 2.0//EN
METHOD:PUBLISH
X-PUBLISHED-TTL:P3D
REFRESH-INTERVAL:P3D
CALSCALE:GREGORIAN
BEGIN:VEVENT
DTSTART:20200821T013000Z
DTEND:20200821T030000Z
X-MICROSOFT-CDO-ALLDAYEVENT:FALSE
SUMMARY:Stargaze with Jim Marshall
DESCRIPTION:Stargaze with Jim Marshall at Observatory Hill State Natural Area in Montello\, Wisconsin\n\nThursday\, August 20 at 8:30pm\n\n\n\nTelescope and treats provided\, please bring your own camp chair and bug spray.\n\n\n\nTo register or for more information\, email programs@portagelibrary.us or call (608) 742-4959. Program generously provided by the Friends of the Portage Library.
X-ALT-DESC;FMTTYPE=text/html:<span style="font-size:14px\;">Stargaze with Jim Marshall at Observatory Hill State Natural Area in Montello\, Wisconsin<br />\nThursday\, August 20 at 8:30pm<br />\n<br />\nTelescope and treats provided\, please bring your own camp chair and bug spray.<br />\n<br />\nTo register or for more information\, email programs@portagelibrary.us or call (608) 742-4959. Program generously provided by the Friends of the Portage Library.</span>
LOCATION:Observatory Hill State Natural Area in Montello\, WI
UID:e.374.27795
SEQUENCE:3
DTSTAMP:20260420T051021Z
URL:https://business.portagewi.com/events/details/stargaze-with-jim-marshall-08-20-2020-27795
END:VEVENT

END:VCALENDAR
