BEGIN:VCALENDAR
VERSION:2.0
PRODID:-//ChamberMaster//Event Calendar 2.0//EN
METHOD:PUBLISH
X-PUBLISHED-TTL:P3D
REFRESH-INTERVAL:P3D
CALSCALE:GREGORIAN
BEGIN:VEVENT
DTSTART;VALUE=DATE:20201205
DTEND;VALUE=DATE:20201206
TRANSP:TRANSPARENT
X-MICROSOFT-CDO-ALLDAYEVENT:TRUE
SUMMARY:Stocking Stuffer Day
DESCRIPTION:Stop at our local businesses today to get all those stocking stuffers.\n\n\n\nForever Yours Jewelry:\n\nDonate 4 Food Pantry items to receive 25% Off in-store purchases + BOGO Angelica Stackable Bracelets - Perfect for Stocking Stuffers. Going on through December 19\, 2020.   (608) 745-3330   10am to 1pm \n\n\n\nWisconsin Network Solutions:\n\n15% off computer labor cost good through Dec. 31\, 2020.\n\n1 Main St.\, Portage    608-745-6789\n\n \nHoliday Open House at Wilz Hometown Pharmacy:\n\nSchedule your shopping appointment from Dec 3rd-5th to receive 25% off gift and apparel items. Call 742-3545 to schedule your one-hour shopping time. Everyone who attends their appointment will receive a complimentary goodie bag.\n\n\n\nMain Street Consignment\, LLC:\n\nWe are your walk-in closet. Consign\, shop\, and save! Take 50% off all kid's Christmas apparel until December 31\, 2020. Check out our dollar rack. Gift Certificates available. Face masks required. \n\n13 Main St.\, Portage   608-566-1644\n\n\n\nSpark & Sparkle:\n\nBuy 1 get one free Hand Sanitizer today.  141 East Cook Street  (608) 566-1590\n\n\n\nPrivate Shopping at The Mercantile and BonBon and Bordeaux:\n\nMonday through Fridays\, (in December) the shop will be available for your personal shopping experience. The first appointment will be available at 5:00 p.m. and the store will be open to you for a one-hour shopping experience. You can call 608-745-5768 to schedule you shopping trip. We will be offering 3 time slots per evening: 5:00-6pm\, 6-7pm and 7  8pm. Masks will be required for the safety of our staff.\n\n\n\nFancy Pants & Smart Woman:\n\nLet us fill those stockings.  Select an 'ornament' and receive a discount on any scarf\, glove\, necklace or earring.  With the holidays upon us we are happy to provide a private shopping experience.  We would be happy to accommodate.  If you would like a stay at home experience we are happy to FaceTime with you and show you many items.  We can ship or do curbside pick-up.  Remember we also gift wrap! (608) 742-5711
X-ALT-DESC;FMTTYPE=text/html:<span style="font-size:14px\;"><span style="font-family:arial\;">Stop at our local businesses today to get all those stocking stuffers.<br />\n<br />\n<span style="color:#444444\;"><u><strong>Forever Yours Jewelry:</strong></u><br />\nDonate 4 Food Pantry items to receive&nbsp\;25% Off in-store purchases&nbsp\;+ BOGO Angelica Stackable Bracelets - Perfect for Stocking Stuffers. Going on through December 19\, 2020. &nbsp\; </span>(608) 745-3330&nbsp\;&nbsp\; <span style="color:#444444\;">10am to 1pm&nbsp\;</span><br />\n<br />\n<strong><u>Wisconsin Network Solutions</u>:</strong><br />\n15% off computer labor cost good through Dec. 31\, 2020.<br />\n1 Main St.\, Portage &nbsp\;&nbsp\; 608-745-6789</span></span><br />\n&nbsp\;\n<div><span style="font-size:14px\;"><u><strong>Holiday Open House at Wilz Hometown Pharmacy:</strong></u><br />\n<span style="font-family:arial\;"><span style="color: rgb(0\, 0\, 0)\;">Schedule your shopping appointment from Dec 3rd-5th to receive 25% off gift and apparel items. Call 742-3545 to schedule your one-hour shopping time. Everyone who attends their appointment will receive a complimentary goodie bag.</span></span></span><br />\n<br />\n<span style="font-size:14px\;"><span style="font-family:arial\;"><u><strong>Main Street Consignment\, LLC:</strong></u><br background-color:="" font-size:="" style="color: rgb(51\, 51\, 51)\; font-family: sans-serif\, Arial\, Verdana\, " trebuchet="" />\n<span background-color:="" font-size:="" style="color: rgb(51\, 51\, 51)\; font-family: sans-serif\, Arial\, Verdana\, " trebuchet="">We are your walk-in closet. Consign\, shop\, and save! Take 50% off all kid&#39\;s Christmas apparel until December 31\, 2020. Check out our dollar rack. Gift Certificates available. Face masks required.&nbsp\;</span><br background-color:="" font-size:="" style="color: rgb(51\, 51\, 51)\; font-family: sans-serif\, Arial\, Verdana\, " trebuchet="" />\n<span background-color:="" font-size:="" style="color: rgb(51\, 51\, 51)\; font-family: sans-serif\, Arial\, Verdana\, " trebuchet="">13 Main St.\, Portage&nbsp\; &nbsp\;608-566-1644</span><br />\n<br />\n<u><strong>Spark &amp\; Sparkle:</strong></u><br />\nBuy 1 get one free Hand Sanitizer today.&nbsp\; 141 East Cook Street&nbsp\; (608) 566-1590</span></span><br />\n<br />\n<span style="font-family:calibri\,sans-serif\;"><span style="font-size:11.0pt\;"><u><strong><span style="font-size:14px\;"><span style="font-family:arial\;">Private Shopping at The Mercantile and BonBon and Bordeaux:</span></span></strong></u></span></span><br />\n<span style="font-size:14px\;"><span style="color: rgb(0\, 0\, 0)\;">Monday through Fridays\, (in December) the shop will be available for your personal shopping experience. The first appointment will be available at 5:00 p.m. and the store will be open to you for a one-hour shopping experience. You can call 608-745-5768 to schedule you shopping trip. We will be offering 3 time slots per evening: 5:00-6pm\, 6-7pm and 7&ndash\; 8pm.&nbsp\;Masks will be required for the safety of our staff.</span><br />\n<br />\n<span style="font-family:arial\;"><u><strong>Fancy Pants &amp\; Smart Woman:</strong></u><br />\nLet us fill those stockings.&nbsp\; Select an &#39\;ornament&#39\; and receive a discount on any scarf\, glove\, necklace or earring.&nbsp\; With the holidays upon us we are happy to provide a private shopping experience.&nbsp\; We would be happy to accommodate.&nbsp\; If you would like a stay at home experience we are happy to FaceTime with you and show you many items.&nbsp\; We can ship or do curbside pick-up.&nbsp\; Remember we also gift wrap!&nbsp\;(608) 742-5711</span></span><br />\n<br />\n&nbsp\;</div>\n<br />\n&nbsp\;
LOCATION:
UID:e.374.27962
SEQUENCE:3
DTSTAMP:20260422T083649Z
URL:https://business.portagewi.com/events/details/stocking-stuffer-day-27962
END:VEVENT

END:VCALENDAR
