BEGIN:VCALENDAR
VERSION:2.0
PRODID:-//ChamberMaster//Event Calendar 2.0//EN
METHOD:PUBLISH
X-PUBLISHED-TTL:P3D
REFRESH-INTERVAL:P3D
CALSCALE:GREGORIAN
BEGIN:VEVENT
DTSTART;VALUE=DATE:20201003
DTEND;VALUE=DATE:20201004
TRANSP:TRANSPARENT
X-MICROSOFT-CDO-ALLDAYEVENT:TRUE
SUMMARY:Super Savings Sale at Portage Lumber
DESCRIPTION:Semi-annual Milwaukee Door Buster SALE! 1 Day Only.\n\n- FREE battery with select Milwaukee Bare Tools (9am-1pm ONLY). limited quantities.\n\n- $100 OFF select M18 Milwaukee Power Tool Kits \n\n- All stock Milwaukee Power Tools & Outdoor Equipment ON SALE - one day only!\n\n- Up to 40% OFF select stock Milwaukee accessories (9am-1pm)\n\n- Milwaukee rep on sight to answer your questions & demo new tools\n\n- BIGGEST SAVINGS of the Season.\n\n- Enter to WIN a grand prize!\n\n*limited quantities on hand. limited quantities per customer. see store for full details.
X-ALT-DESC;FMTTYPE=text/html:<div dir="auto">\n<div class="ecm0bbzt hv4rvrfc ihqw7lf3 dati1w0a" data-ad-comet-preview="message" data-ad-preview="message" id="jsc_c_1jj">\n<div class="j83agx80 cbu4d94t ew0dbk1b irj2b8pg">\n<div class="qzhwtbm6 knvmm38d">\n<div class="kvgmc6g5 cxmmr5t8 oygrvhab hcukyx3x c1et5uql ii04i59q">\n<div dir="auto" style="text-align: start\;"><span style="font-size:14px\;"><span style="font-family:arial\;"><span class="d2edcug0 hpfvmrgz qv66sw1b c1et5uql rrkovp55 a8c37x1j keod5gw0 nxhoafnm aigsh9s9 d3f4x2em fe6kdd0r mau55g9w c8b282yb iv3no6db jq4qci2q a3bd9o3v knj5qynh oo9gr5id hzawbc8m" dir="auto">Semi-annual Milwaukee Door Buster SALE! 1 Day Only.</span></span></span></div>\n\n<div dir="auto" style="text-align: start\;"><span style="font-size:14px\;"><span style="font-family:arial\;"><span class="d2edcug0 hpfvmrgz qv66sw1b c1et5uql rrkovp55 a8c37x1j keod5gw0 nxhoafnm aigsh9s9 d3f4x2em fe6kdd0r mau55g9w c8b282yb iv3no6db jq4qci2q a3bd9o3v knj5qynh oo9gr5id hzawbc8m" dir="auto">- FREE battery with select Milwaukee Bare Tools (9am-1pm ONLY). limited quantities.</span></span></span></div>\n\n<div dir="auto" style="text-align: start\;"><span style="font-size:14px\;"><span style="font-family:arial\;"><span class="d2edcug0 hpfvmrgz qv66sw1b c1et5uql rrkovp55 a8c37x1j keod5gw0 nxhoafnm aigsh9s9 d3f4x2em fe6kdd0r mau55g9w c8b282yb iv3no6db jq4qci2q a3bd9o3v knj5qynh oo9gr5id hzawbc8m" dir="auto">- $100 OFF select M18 Milwaukee Power Tool Kits </span></span></span></div>\n\n<div dir="auto" style="text-align: start\;"><span style="font-size:14px\;"><span style="font-family:arial\;"><span class="d2edcug0 hpfvmrgz qv66sw1b c1et5uql rrkovp55 a8c37x1j keod5gw0 nxhoafnm aigsh9s9 d3f4x2em fe6kdd0r mau55g9w c8b282yb iv3no6db jq4qci2q a3bd9o3v knj5qynh oo9gr5id hzawbc8m" dir="auto"><span class="pq6dq46d tbxw36s4 knj5qynh kvgmc6g5 ditlmg2l oygrvhab nvdbi5me sf5mxxl7 gl3lb2sf hhz5lgdu">- A</span>ll stock Milwaukee Power Tools &amp\; Outdoor Equipment ON SALE - one day only!</span></span></span></div>\n\n<div dir="auto" style="text-align: start\;"><span style="font-size:14px\;"><span style="font-family:arial\;"><span class="d2edcug0 hpfvmrgz qv66sw1b c1et5uql rrkovp55 a8c37x1j keod5gw0 nxhoafnm aigsh9s9 d3f4x2em fe6kdd0r mau55g9w c8b282yb iv3no6db jq4qci2q a3bd9o3v knj5qynh oo9gr5id hzawbc8m" dir="auto"><span class="pq6dq46d tbxw36s4 knj5qynh kvgmc6g5 ditlmg2l oygrvhab nvdbi5me sf5mxxl7 gl3lb2sf hhz5lgdu">- </span>Up to 40% OFF select stock Milwaukee accessories (9am-1pm)</span></span></span></div>\n\n<div dir="auto" style="text-align: start\;"><span style="font-size:14px\;"><span style="font-family:arial\;"><span class="d2edcug0 hpfvmrgz qv66sw1b c1et5uql rrkovp55 a8c37x1j keod5gw0 nxhoafnm aigsh9s9 d3f4x2em fe6kdd0r mau55g9w c8b282yb iv3no6db jq4qci2q a3bd9o3v knj5qynh oo9gr5id hzawbc8m" dir="auto"><span class="pq6dq46d tbxw36s4 knj5qynh kvgmc6g5 ditlmg2l oygrvhab nvdbi5me sf5mxxl7 gl3lb2sf hhz5lgdu">- </span>Milwaukee rep on sight to answer your questions &amp\; demo new tools</span></span></span></div>\n\n<div dir="auto" style="text-align: start\;"><span style="font-size:14px\;"><span style="font-family:arial\;"><span class="d2edcug0 hpfvmrgz qv66sw1b c1et5uql rrkovp55 a8c37x1j keod5gw0 nxhoafnm aigsh9s9 d3f4x2em fe6kdd0r mau55g9w c8b282yb iv3no6db jq4qci2q a3bd9o3v knj5qynh oo9gr5id hzawbc8m" dir="auto"><span class="pq6dq46d tbxw36s4 knj5qynh kvgmc6g5 ditlmg2l oygrvhab nvdbi5me sf5mxxl7 gl3lb2sf hhz5lgdu">- </span>BIGGEST SAVINGS of the Season.</span></span></span></div>\n\n<div dir="auto" style="text-align: start\;"><span style="font-size:14px\;"><span style="font-family:arial\;"><span class="d2edcug0 hpfvmrgz qv66sw1b c1et5uql rrkovp55 a8c37x1j keod5gw0 nxhoafnm aigsh9s9 d3f4x2em fe6kdd0r mau55g9w c8b282yb iv3no6db jq4qci2q a3bd9o3v knj5qynh oo9gr5id hzawbc8m" dir="auto"><span class="pq6dq46d tbxw36s4 knj5qynh kvgmc6g5 ditlmg2l oygrvhab nvdbi5me sf5mxxl7 gl3lb2sf hhz5lgdu">- </span>Enter to WIN a grand prize!</span></span></span></div>\n\n<div dir="auto" style="text-align: start\;"><span style="font-size:14px\;"><span style="font-family:arial\;"><span class="d2edcug0 hpfvmrgz qv66sw1b c1et5uql rrkovp55 a8c37x1j keod5gw0 nxhoafnm aigsh9s9 d3f4x2em fe6kdd0r mau55g9w c8b282yb iv3no6db jq4qci2q a3bd9o3v knj5qynh oo9gr5id hzawbc8m" dir="auto">*limited quantities on hand. limited quantities per customer. see store for full details.</span></span></span></div>\n</div>\n</div>\n</div>\n</div>\n</div>\n<br />\n&nbsp\;
LOCATION:1009 E Wisconsin Street Portage\, WI 53901
UID:e.374.27855
SEQUENCE:3
DTSTAMP:20260422T070657Z
URL:https://business.portagewi.com/events/details/super-savings-sale-at-portage-lumber-27855
END:VEVENT

END:VCALENDAR
