BEGIN:VCALENDAR
VERSION:2.0
PRODID:-//ChamberMaster//Event Calendar 2.0//EN
METHOD:PUBLISH
X-PUBLISHED-TTL:P3D
REFRESH-INTERVAL:P3D
CALSCALE:GREGORIAN
BEGIN:VEVENT
DTSTART:20201212T220000Z
DTEND:20201212T224500Z
X-MICROSOFT-CDO-ALLDAYEVENT:FALSE
SUMMARY:TAKE3 - Spreading a Little Holiday Cheer! virtual concert
DESCRIPTION:TAKE3 Spreading a Little Holiday Cheer!\n\nSaturday\, December 12\, 2020\n\nFree Virtual Concert\n\nA 45-minute\, family friendly event\n\nPlease register for this event at www.portagecenterforthearts.com/special-events\n\nYou will be emailed a link to the concert the week of the event. Please share with friends and family!!
X-ALT-DESC;FMTTYPE=text/html:TAKE3 Spreading a Little Holiday Cheer!<br />\nSaturday\, December 12\, 2020<br />\nFree Virtual Concert<br />\nA 45-minute\, family friendly event<br />\nPlease register for this event at <a href="http://www.portagecenterforthearts.com/special-events">www.portagecenterforthearts.com/special-events</a><br />\nYou will be emailed a link to the concert the week of the event. Please share with friends and family!!
LOCATION:
UID:e.374.27976
SEQUENCE:3
DTSTAMP:20260422T090025Z
URL:https://business.portagewi.com/events/details/take3-spreading-a-little-holiday-cheer-virtual-concert-27976
END:VEVENT

END:VCALENDAR
