BEGIN:VCALENDAR
VERSION:2.0
PRODID:-//ChamberMaster//Event Calendar 2.0//EN
METHOD:PUBLISH
X-PUBLISHED-TTL:P3D
REFRESH-INTERVAL:P3D
CALSCALE:GREGORIAN
BEGIN:VEVENT
DTSTART;VALUE=DATE:20140822
DTEND;VALUE=DATE:20140824
TRANSP:TRANSPARENT
X-MICROSOFT-CDO-ALLDAYEVENT:TRUE
SUMMARY:Taste of Portage Market Fair - Aug 22nd & 23rd\, 2014
DESCRIPTION:Taste of Portage Market Fair\n\nCome enjoy  family fun at this event\, now celebrating 23 years!  There will be great food\, live music\, kid's activities\, an art and craft show along with a car show.  \n\nEvents take place at Market Square Parking Lot at the corner of Hwy 33 and Adams Street unless noted otherwise.\n\nClick here for a printable food menu.\n\n\n\nFriday night - \n\nFood and Beer tent 5pm-11pm\n\nLive Music by the Chameleon Band 7pm -11pm (classic rock)\n\n\n\nSaturday  - music\, food\, beer tent\, car show\, craft show\, sidewalk sales and kid's activities.\n\n\n\nFood and Beer Tent 10am-5pm\n\n\n\nLIVE MUSIC  \n\nLate 4 Dinner 10:30am - 1:30pm at Market Square\n\nDixie Sizzlers 11am - 2pm at Cook and DeWitt\n\nJust Merl 2:30pm-5pm at Market Square\n\n\n\nCAR SHOW (All Make/All Models) 9am - 3pm  along Cook Street (Hwy 33) new location this year\n\n$10 show registration\, enter show after 7am\, awards at 2:30pm\n\n\n\nCRAFT SHOW 9am - 4pm along DeWitt Street\n\nSIDEWALK SALES throughout the downtown\n\n\n\nKID'S ACTIVITIES (on Cook St near Wilz Drug)\n\nSt. John's Child Development Kids Creation Station  11am - 3pm    \n\nBalloon Animal Creations 11am - 3pm\n\nKiddie Pedal Pull   1pm\n\n\n\nKID'S ACTIVITIES - DeWitt and Cook Street (grassy area)  "Meet Frank the Frontier Buffalo's Friends"\n\nCamel Rides 10am-3pm   $3 per ride    \n\nPetting Zoo with over 15 animals 10am - 3pm --possible animals at the event include assorted goats and sheep\, a donkey\, an exotic cow\, llamas and/or alpacas\, assorted poultry\, macaw and a tortoise.\n\nMascot - Frank the Buffalo will be making an appearance from Noon - 1pm.  Bring your cameras.\n\n\n\nICE BUCKET CHALLENGE\n\nMayor of Portage\, Bill Tierney\, has graciously accepted our Ice Bucket Challenge! Participants can choose to have a bucket of ice water dumped over their head\, make a donation toward ALS (Lou Gehrig's Disease) research\, or both. Once the challenge is complete\, the participant can then choose another person to accept the challenge. Watch the mayor get soaked and find out who he selects for the next challenge\, at 3 p.m.\, right after the car show awards\, across from the Chamber office at 104 W. Cook St.  \n\n \n\n\n\nCraft vendors Click Here for an application!!!!   Click here for the required Wisconsin Temporary Event Operator and Seller Information form.
X-ALT-DESC;FMTTYPE=text/html:<p><span style="font-size: 12px\;">Taste of Portage Market Fair<br />\nCome enjoy&nbsp\; family fun at this event\, now celebrating 23 years!&nbsp\; There will be great food\, live music\, kid&#39\;s activities\, an art and craft show along with a car show.&nbsp\;&nbsp\;<br />\nEvents take place at Market Square Parking Lot at&nbsp\;the corner of Hwy 33 and Adams Street unless noted otherwise.<br />\n<a href="http://cloud.chambermaster.com/userfiles/UserFiles/chambers/374/File/TasteofPortageMenu2014.pdf" target="_blank">Click here for a printable food menu.</a><br />\n<br />\n<u>Friday night - </u></span><br />\n<span style="font-size: 12px\;"><strong>Food and Beer tent 5pm-11pm<br />\n<em>Live Music by the Chameleon Band 7pm -11pm (classic rock)</em></strong><br />\n<br />\n<u>Saturday&nbsp\; - music\, food\, beer tent\, car show\, craft show\, sidewalk sales&nbsp\;and kid&#39\;s activities.</u><br />\n<br />\n<em><strong>Food and Beer Tent 10am-5pm<br />\n<br />\nLIVE MUSIC&nbsp\; </strong></em></span><br />\n<span style="font-size: 12px\;"><em><strong>Late 4 Dinner 10:30am - 1:30pm&nbsp\;at Market Square<br />\nDixie Sizzlers 11am - 2pm at Cook and DeWitt<br />\nJust Merl 2:30pm-5pm at Market Square<br />\n<br />\nCAR SHOW&nbsp\;(All Make/All Models) 9am - 3pm&nbsp\; along Cook Street (Hwy 33) new location this year<br />\n$10 show registration\, enter show after 7am\, awards at 2:30pm<br />\n<br />\nCRAFT SHOW&nbsp\;9am - 4pm along DeWitt&nbsp\;Street<br />\nSIDEWALK SALES throughout the downtown<br />\n<br />\nKID&#39\;S ACTIVITIES (on Cook St near Wilz Drug)</strong></em></span><br />\n<span style="font-size: 12px\;"><em><strong>St. John&#39\;s&nbsp\;Child Development&nbsp\;Kids Creation Station&nbsp\; 11am - 3pm&nbsp\;&nbsp\;&nbsp\;&nbsp\;<br />\nBalloon Animal Creations 11am - 3pm<br />\nKiddie Pedal Pull&nbsp\;&nbsp\; 1pm</strong></em></span><br />\n<br />\n<span style="font-size: 12px\;"><strong><em>KID&#39\;S ACTIVITIES - DeWitt and Cook Street (grassy area)&nbsp\; </em></strong></span><strong><em>&quot\;<span style="font-size: 12px\;">Meet Frank the Frontier Buffalo&#39\;s Friends&quot\;</span></em></strong><br />\n<span style="font-size: 12px\;"><em><strong>Camel Rides 10am-3pm&nbsp\;&nbsp\; $3 per ride&nbsp\;&nbsp\;&nbsp\;&nbsp\;<br />\nPetting Zoo with over 15 animals 10am - 3pm </strong></em></span><span style="font-family: arial\;"><span style="font-size: 12px\;">--possible animals at the event include <span new="" times=""><font color="#000000">assorted goats and sheep\, a donkey\, an exotic cow\,&nbsp\;llamas and/or alpacas\, assorted poultry\, macaw and a tortoise.<br />\nMascot - Frank the Buffalo will be making an appearance&nbsp\;from Noon - 1pm.&nbsp\; Bring your cameras.<br />\n<br />\n<u><strong>ICE BUCKET CHALLENGE</strong></u></font></span><br />\nMayor of Portage\, Bill Tierney\, has graciously accepted our Ice Bucket Challenge! Participants can choose to have a bucket of ice water dumped over their head\, make a donation toward ALS (Lou Gehrig&rsquo\;s Disease) research\, or both. Once the challenge is complete\, the participant can then choose another person to accept the challenge. Watch the mayor get soaked and find out who he selects for the next challenge\, at 3 p.m.\, right after the car show awards\, across from the Chamber office at 104 W. Cook St. &nbsp\;<br />\n<span new="" times=""><font color="#000000">&nbsp\;</font></span></span></span><br />\n<br />\n<span style="font-family: arial\;"><span style="background-color: rgb(255\, 255\, 0)\;">Craft vendors </span><a href="http://cloud.chambermaster.com/userfiles/UserFiles/chambers/374/File/tasteapplication14.pdf"><span style="background-color: rgb(255\, 255\, 0)\;">Click Here</span></a><span style="background-color: rgb(255\, 255\, 0)\;"> for an application!!!!&nbsp\;&nbsp\; </span></span><a href="http://www.revenue.wi.gov/pubs/pb228.pdf"><font style="background-color: rgb(255\, 255\, 0)\;"><span style="background-color: rgb(255\, 255\, 0)\;">Click here</span></font></a><font style="background-color: rgb(255\, 255\, 0)\;"><font><span style="background-color: rgb(255\, 255\, 0)\;"> for the required Wisconsin Temporary Event Operator and Seller Information form.&nbsp\;</span></font><span _fck_bookmark="1" style="display: none\;"><span style="background-color: rgb(255\, 255\, 0)\;">&nbsp\;</span></span></font><br />\n<br />\n<br />\n&nbsp\;</p>\n
LOCATION:Downtown Portage along Hwy 33 and in the Market Square Parking Lot located at the corner of Hwy 33 and Adams Street
UID:e.374.9308
SEQUENCE:3
DTSTAMP:20260422T135813Z
URL:https://business.portagewi.com/events/details/taste-of-portage-market-fair-aug-22nd-23rd-2014-08-22-2014-9308
END:VEVENT

END:VCALENDAR
