BEGIN:VCALENDAR
VERSION:2.0
PRODID:-//ChamberMaster//Event Calendar 2.0//EN
METHOD:PUBLISH
X-PUBLISHED-TTL:P3D
REFRESH-INTERVAL:P3D
CALSCALE:GREGORIAN
BEGIN:VEVENT
DTSTART;VALUE=DATE:20120824
DTEND;VALUE=DATE:20120826
TRANSP:TRANSPARENT
X-MICROSOFT-CDO-ALLDAYEVENT:TRUE
SUMMARY:Taste of Portage Market Fair - Aug 24th & 25th\, 2012
DESCRIPTION:Taste of Portage Market Fair 2012\n\n	Come enjoy  family fun at this event\, now celebrating 21 years!  There will be great food\, live music\, kid's activities\, an art and craft show along with a car show.  \n\n	Events take place at Market Square Parking Lot at the corner of Hwy 33 and Adams Street unless noted otherwise.\n\n	\n\n	Fireworks Saturday Night at 9pm (rescheduled from Independence Day).  Watch from the Levee Walking Path near Tamarack\, along the river on Conant Street or Pauquette Park.\n\n	\n\n	Friday evening at Market Square:\n\n	4pm-10pm Food Court Open\n\n	\n\n	Music by Main Street Wisdom Band featuring NBC News Anchor Carleen Wild at 6:30pm.  MSW plays an eclectic blend of new and old country favorites along with a few originals.    www.mainstreetwisdom.com\n\n	\n\n	Saturday:\n\n	\n\n	9am-4pm: Craft show along Cook Street\, Crafters\, Click Here for an application\n\n	\n\n	9am   3pm: All make - all model Car Show along DeWitt Street\, registration at 8am at the corner of DeWitt and Edgewater Street\, $10 entry fee with 20 classes\, participant judging with a celebrity best of show judge.  click here for a printable poster. \n\n	\n\n	10:30am-8pm: Food Court Open at Market Square\n\n	\n\n	\n\n	Music At Market Square:  \n\n	The Midwesterners at 11am.  The Midwesterners ride the borders between Rock and Classic Country. www.themidwesterners.com\n\n	\n\n	76 Juliet at 4:30pm.  The band makes the most of the individual strengths of each performer   playing everything from power-pop to hair metal to country to rock and everything in-between. www.76juliet.com\n\n	 \n\n	Downtown Music: Late 4 Dinner at 11am.  This band enjoys playing music for all ages with songs from Elvis\, the Beatles\, Jimmy Buffett\, Johnny Cash and so much more.\n\n	\n\n	Kid's Activities Saturday at Market Square: \n\n	- Lochlan the Magician and Open Arms Creation Station from 11am-3pm\, with kids crafts by the Historic Indian Agency House.  \n\n	- Kid's Pedal Pull at 1pm on Cook St. across from Bank Mutual.\n\n	- the Green and Gold Bounce House Experience begins at 11am  \n\n	- Bungee Trampoline and Paintball Arena begins at 11am\n\n	\n\n	Author Pamela Quinlan\, children's book author\,  will be signing her Spring Pond Series books on Saturday: "A Funny Day at Spring Pond"\, "A Snowy Day at Spring Pond" and "A Stormy Day at Spring Pond".\n\n	\n\n	Saturday: Madison Area Volkssport Association\, Dairyland Walkers - Portage: A Walk Into History - 11K & 5K\n\n	8am at Riverside Park along Wisconsin Street\n\n	 http://www.dairylandwalkers.com/
X-ALT-DESC;FMTTYPE=text/html:<p>\n	<span style="font-family: arial"><span>Taste of Portage Market Fair 2012<br />\n	Come enjoy&nbsp\; family fun at this event\, now celebrating 21 years!&nbsp\; </span>There will be great food\, live music\, kid&#39\;s activities\, an art and craft show along with a car show.&nbsp\;&nbsp\;<br />\n	Events take place at Market Square Parking Lot at&nbsp\;the corner of Hwy 33 and Adams Street unless noted otherwise.<br />\n	<br />\n	<em><strong>Fireworks Saturday Night at&nbsp\;9pm </strong>(rescheduled from Independence Day).&nbsp\; Watch from the Levee Walking Path near Tamarack\, along the river on Conant Street or Pauquette Park.</em><br />\n	<br />\n	<u><strong>Friday evening at Market Square</strong></u>:<br />\n	4pm-10pm Food Court Open<br />\n	<br />\n	Music by Main Street Wisdom Band featuring NBC News Anchor Carleen Wild at 6:30pm.&nbsp\; MSW plays an eclectic blend of new and old country favorites along with a few originals.&nbsp\;&nbsp\;&nbsp\; <a href="http://www.mainstreetwisdom.com">www.mainstreetwisdom.com</a><br />\n	<br />\n	<strong><u>Saturday:</u></strong><br />\n	<br />\n	9am-4pm: Craft show along Cook Street\, Crafters\, <a href="http://cloud.chambermaster.com/userfiles/UserFiles/chambers/374/File/Tastecraftapp12.pdf">Click Here</a> for&nbsp\;an application<br />\n	<br />\n	9am &ndash\; 3pm: All make - all model Car Show along DeWitt Street\, registration at&nbsp\;8am at the corner of DeWitt and Edgewater Street\, $10 entry fee with 20 classes\, participant judging&nbsp\;with a celebrity best of show&nbsp\;judge.&nbsp\; </span><a href="http://cloud.chambermaster.com/userfiles/UserFiles/chambers/374/File/Carshowflyer2012.pdf">click here for a printable poster.</a><span style="font-family: arial">&nbsp\;<br />\n	<br />\n	10:30am-8pm: Food Court Open at Market Square<br />\n	<br />\n	<br />\n	<strong>Music At Market Square:</strong>&nbsp\;&nbsp\;<br />\n	<span style="font-size: 9pt">The Midwesterners at 11am.&nbsp\; The Midwesterners ride the borders between Rock and Classic Country. <a href="http://www.themidwesterners.com">www.themidwesterners.com</a><br />\n	<br />\n	76 Juliet at 4:30pm.&nbsp\; The band makes the most of the individual strengths of each performer &ndash\; playing everything from power-pop to hair metal to country to rock and everything in-between. <a href="http://www.76juliet.com">www.76juliet.com</a></span><br />\n	&nbsp\;</span></p>\n<p>\n	<span style="font-family: arial"><span style="font-size: 9pt">Downtown Music:&nbsp\;Late&nbsp\;4 Dinner&nbsp\;at 11am.&nbsp\; This band enjoys playing music for all ages with songs from Elvis\, the Beatles\, Jimmy Buffett\, Johnny Cash and so much more.<br />\n	<br />\n	Kid&#39\;s Activities Saturday at Market Square:&nbsp\;</span><br />\n	<span style="font-size: 9pt">- Lochlan the Magician and Open Arms Creation Station from 11am-3pm\, with kids crafts by the Historic Indian Agency House.&nbsp\;&nbsp\;</span><br />\n	<span style="font-size: 9pt">-&nbsp\;Kid&#39\;s Pedal Pull at 1pm on Cook St. across from Bank Mutual.<br />\n	-&nbsp\;the Green and Gold Bounce House&nbsp\;Experience begins at 11am&nbsp\;<strong><em>&nbsp\;</em></strong><br />\n	- Bungee Trampoline and&nbsp\;Paintball Arena begins at 11am<br />\n	<br />\n	Author Pamela Quinlan\, children&#39\;s book author\, &nbsp\;will be signing&nbsp\;her <em>Spring Pond Series</em> books on Saturday: &quot\;A&nbsp\;Funny Day at Spring Pond&quot\;\, &quot\;A Snowy Day at Spring Pond&quot\; and&nbsp\;&quot\;A Stormy Day at Spring Pond&quot\;.<br />\n	<br />\n	Saturday: Madison Area Volkssport Association\,&nbsp\;Dairyland&nbsp\;Walkers&nbsp\;- Portage: A Walk Into History - 11K &amp\; 5K<br />\n	8am at Riverside&nbsp\;Park along Wisconsin Street</span><br />\n	&nbsp\;<a href="http://www.dairylandwalkers.com/">http://www.dairylandwalkers.com/</a></span></p>\n
LOCATION:Downtown Portage along Hwy 33 and in the Market Square Parking Lot located at the corner of Hwy 33 and Adams Street
UID:e.374.4113
SEQUENCE:3
DTSTAMP:20260423T072946Z
URL:https://business.portagewi.com/events/details/taste-of-portage-market-fair-aug-24th-25th-2012-08-24-2012-4113
END:VEVENT

END:VCALENDAR
