BEGIN:VCALENDAR
VERSION:2.0
PRODID:-//ChamberMaster//Event Calendar 2.0//EN
METHOD:PUBLISH
X-PUBLISHED-TTL:P3D
REFRESH-INTERVAL:P3D
CALSCALE:GREGORIAN
BEGIN:VEVENT
DTSTART:20110826T210000Z
DTEND:20110828T020000Z
X-MICROSOFT-CDO-ALLDAYEVENT:FALSE
SUMMARY:Taste of Portage Market Fair - Aug 26th & 27th 2011
DESCRIPTION:Taste of Portage Market Fair 2011\n\n	Come enjoy 2 days of family fun at this event\, now celebrating 20 years!\n\n	\n\n	Food Court Hours: Friday 4pm-9pm\, Saturday 10am-9pm\n\n	\n\n	Car Cruise: Friday Night\, leaving at 6:15pm from Rileys Bar and Grill\n\n	\n\n	Car Show: Saturday\, 9am - 3pm along DeWitt Street.  Registration is that day at the corner of DeWitt and Edgewater Street.\n\n	\n\n	Art and Craft Show: Saturday\, 9am -4pm along Cook Street\n\n	Open Arms Daycare Kids Creation Station: Saturday\, 11am - 3pm to include craft area for kid's\, face painting and a balloon artist/magician.  Located in front of Wilz Drug.\n\n	Kid's Tractor Pedal Pull: Saturday\, 1pm in front of Bank Mutual along Cook Street. \n\n	\n\n	CP Rail Kiddie Train Saturday\, Noon-3pm along Marchowsky.\n\n	\n\n	Green and Gold Experience  Saturday\, kids can bounce their way to fun. Starts at 11am near Wilz Drug Store.\n\n	\n\n	9-Hole Putt-A-Way  Saturday\, take on a friend or family member in this putting challenge. Starts at 11am near Wilz Drug Store.\n\n	\n\n	\n\n	Music Stage at Market Square\n\n	Friday Night - Main Street Wisdom featuring NBC15 News Anchor Carleen Wild starting at 6pm\n\n	\n\n	Saturday Music\n\n	Late 4 Dinner  - playing 10am-12:30pm\n\n	Universal Sound Band  - playing 1pm-5pm\n\n	\n\n	Saturday Night Music\n\n	Swing Crew - playing 5pm-9pm\n\n	 \n\n	Music Stage at the Corner of DeWitt and Cook Street\n\n	Saturday 11am-2pm Razzmatazz Dixieland Jazz\n\n	\n\n	\n\n	Thank you to our sponsors.\n\n	 \n\n	City of Portage Tourism \n\n	Culver's\n\n	Business Improvement District\n\n	Weavers                              \n\n	Hill Automotive                 \n\n	Portage Motors                                \n\n	Portage National Bank   \n\n	Rhyme                                  \n\n	Johnson Chiropractic      \n\n	Blau Chiropractic\n\n	General Engineering\n\n	Chuck Miller Agency\n\n	Markent Solutions\n\n	Don-Rick Insurance\n\n	Arbor Green\n\n	Divine Savior Healthcare\n\n	Larry's Trophies and Awards\n\n	Wisconsin River Title Consultants\n\n	First Weber Realty\n\n	Fairway Mortgage\n\n	Community Bank\n\n	Schultz Small Engine\n\n	Arbor Green\n\n	Divine Savior Healthcare
X-ALT-DESC;FMTTYPE=text/html:<p>\n	<span style="background-color: #ffffff"><span><strong>Taste of Portage Market Fair 2011</strong><br />\n	Come enjoy 2 days of family fun at this event\, now celebrating 20 years!</span></span><br />\n	<br />\n	<strong>Food Court&nbsp\;Hours:</strong> Friday 4pm-9pm\, Saturday 10am-9pm<br />\n	<br />\n	<strong>Car Cruise:</strong> Friday Night\, leaving at 6:15pm from Rileys Bar and Grill<br />\n	<br />\n	<strong>Car Show:</strong> Saturday\, 9am - 3pm along DeWitt Street.&nbsp\;&nbsp\;Registration is that day at the corner of DeWitt and Edgewater Street.<br />\n	<br />\n	<strong>Art and Craft Show:</strong>&nbsp\;Saturday\, 9am -4pm along Cook Street</p>\n<p>\n	<strong>Open&nbsp\;Arms&nbsp\;Daycare&nbsp\;Kids Creation Station:</strong>&nbsp\;Saturday\, 11am - 3pm&nbsp\;to include&nbsp\;craft area for kid&rsquo\;s\, face painting and a balloon artist/magician.&nbsp\; Located in front of Wilz Drug.</p>\n<p>\n	<strong>Kid&rsquo\;s&nbsp\;Tractor Pedal Pull:</strong> Saturday\, 1pm in front of Bank Mutual along Cook Street.&nbsp\;<br />\n	<br />\n	<strong>CP Rail Kiddie Train </strong>Saturday\, Noon-3pm along Marchowsky.<br />\n	<br />\n	<strong>Green and Gold Experience&nbsp\; </strong>Saturday\, kids can bounce their way to fun. Starts at 11am near Wilz Drug Store.<br />\n	<br />\n	<strong>9-Hole Putt-A-Way&nbsp\; </strong>Saturday\, take on a friend or family member in this putting challenge. Starts at 11am near Wilz Drug Store.<br />\n	<br />\n	<br />\n	<u><strong>Music Stage at Market Square</strong></u></p>\n<div>\n	Friday Night - Main Street Wisdom featuring NBC15 News Anchor Carleen Wild starting at 6pm</div>\n<div>\n	<br />\n	Saturday Music<br />\n	Late 4 Dinner&nbsp\; - playing 10am-12:30pm<br />\n	Universal Sound Band&nbsp\; -&nbsp\;playing 1pm-5pm</div>\n<div>\n	<br />\n	Saturday Night Music<br />\n	Swing Crew - playing&nbsp\;5pm-9pm</div>\n<div>\n	&nbsp\;</div>\n<div>\n	<strong><u>Music Stage at the Corner of DeWitt and Cook Street</u></strong></div>\n<div>\n	Saturday 11am-2pm Razzmatazz Dixieland Jazz<br />\n	<br />\n	<br />\n	Thank you to our sponsors.<br />\n	&nbsp\;<br />\n	<span style="font-size: medium"><span style="font-family: calibri">City of Portage Tourism </span></span></div>\n<div>\n	<span style="font-size: medium"><span style="font-family: calibri">Culver&#39\;s<br />\n	Business Improvement District</span></span></div>\n<div>\n	<span style="font-size: medium"><span style="font-family: calibri">Weavers&nbsp\;&nbsp\;&nbsp\;&nbsp\;&nbsp\;&nbsp\;&nbsp\;&nbsp\;&nbsp\;&nbsp\;&nbsp\;&nbsp\;&nbsp\;&nbsp\;&nbsp\;&nbsp\;&nbsp\;&nbsp\;&nbsp\;&nbsp\;&nbsp\;&nbsp\;&nbsp\;&nbsp\;&nbsp\;&nbsp\;&nbsp\;&nbsp\;&nbsp\; </span></span><br />\n	<span style="font-size: medium"><span style="font-family: calibri">Hill Automotive&nbsp\;&nbsp\;&nbsp\;&nbsp\;&nbsp\;&nbsp\;&nbsp\;&nbsp\;&nbsp\;&nbsp\;&nbsp\;&nbsp\;&nbsp\;&nbsp\;&nbsp\;&nbsp\; </span></span><br />\n	<span style="font-size: medium"><span style="font-family: calibri">Portage Motors&nbsp\;&nbsp\;&nbsp\;&nbsp\;&nbsp\;&nbsp\;&nbsp\;&nbsp\;&nbsp\;&nbsp\;&nbsp\;&nbsp\;&nbsp\;&nbsp\;&nbsp\;&nbsp\;&nbsp\;&nbsp\;&nbsp\;&nbsp\;&nbsp\;&nbsp\;&nbsp\;&nbsp\;&nbsp\;&nbsp\;&nbsp\;&nbsp\;&nbsp\;&nbsp\;&nbsp\; </span></span><br />\n	<span style="font-size: medium"><span style="font-family: calibri">Portage National Bank&nbsp\;&nbsp\; </span></span><br />\n	<span style="font-size: medium"><span style="font-family: calibri">Rhyme&nbsp\;&nbsp\;&nbsp\;&nbsp\;&nbsp\;&nbsp\;&nbsp\;&nbsp\;&nbsp\;&nbsp\;&nbsp\;&nbsp\;&nbsp\;&nbsp\;&nbsp\;&nbsp\;&nbsp\;&nbsp\;&nbsp\;&nbsp\;&nbsp\;&nbsp\;&nbsp\;&nbsp\;&nbsp\;&nbsp\;&nbsp\;&nbsp\;&nbsp\;&nbsp\;&nbsp\;&nbsp\;&nbsp\; </span></span><br />\n	<span style="font-size: medium"><span style="font-family: calibri">Johnson Chiropractic&nbsp\;&nbsp\;&nbsp\;&nbsp\;&nbsp\;&nbsp\;</span></span><br />\n	<span style="font-size: medium"><span style="font-family: calibri">Blau Chiropractic</span></span></div>\n<div>\n	<span style="font-size: medium"><span style="font-family: calibri">General Engineering</span></span></div>\n<div>\n	<span style="font-size: medium"><span style="font-family: calibri">Chuck Miller Agency<br />\n	Markent Solutions<br />\n	Don-Rick Insurance<br />\n	Arbor Green<br />\n	Divine Savior Healthcare<br />\n	Larry&#39\;s Trophies and Awards</span></span><br />\n	<font face="Calibri" size="3">Wisconsin River Title Consultants<br />\n	First Weber Realty<br />\n	Fairway Mortgage<br />\n	Community Bank<br />\n	Schultz Small Engine<br />\n	Arbor Green<br />\n	Divine Savior Healthcare</font><br />\n	<br />\n	&nbsp\;</div>\n
LOCATION:Downtown Portage along Hwy 33 and in the Market Square Parking Lot located at the corner of Hwy 33 and Adams Street
UID:e.374.3704
SEQUENCE:3
DTSTAMP:20260422T185643Z
URL:https://business.portagewi.com/events/details/taste-of-portage-market-fair-aug-26th-27th-2011-08-26-2011-3704
END:VEVENT

END:VCALENDAR
