BEGIN:VCALENDAR
VERSION:2.0
PRODID:-//ChamberMaster//Event Calendar 2.0//EN
METHOD:PUBLISH
X-PUBLISHED-TTL:P3D
REFRESH-INTERVAL:P3D
CALSCALE:GREGORIAN
BEGIN:VEVENT
DTSTART;VALUE=DATE:20201122
DTEND;VALUE=DATE:20201126
TRANSP:TRANSPARENT
X-MICROSOFT-CDO-ALLDAYEVENT:TRUE
SUMMARY:The "Greening of the Church"
DESCRIPTION:You are invited to come and help "prepare" the sanctuary for Advent and Christmas - in a safe way.\n\nWe have different tasks to be done - and will "schedule" smaller groups of people to do the tasks on different days.  Among the tasks - putting up and decorating trees\, the "green roping" and the wreaths.\n\n\n\nContact the Church Office to let us know "what" you would like to do and when it would work for you to help "prepare."
X-ALT-DESC;FMTTYPE=text/html:<p><span style="font-size:14px\;"><span style="font-family:arial\;">You are invited to come and help &quot\;prepare&quot\; the sanctuary for Advent and Christmas - in a safe way.<br />\nWe have different tasks to be done - and will &quot\;schedule&quot\; smaller groups of people to do the tasks on different days.&nbsp\; Among the tasks - putting up and decorating trees\, the &quot\;green roping&quot\; and the wreaths.<br />\n<br />\nContact the Church Office to let us know &quot\;what&quot\; you would like to do and when it would work for you to help &quot\;prepare.&quot\;</span></span><br />\n<br />\n&nbsp\;</p>\n
LOCATION:Portage Presbyterian Church 120 West Pleasant Street 608-742-6006
UID:e.374.27966
SEQUENCE:3
DTSTAMP:20260422T084934Z
URL:https://business.portagewi.com/events/details/the-greening-of-the-church-27966
END:VEVENT

END:VCALENDAR
