BEGIN:VCALENDAR
VERSION:2.0
PRODID:-//ChamberMaster//Event Calendar 2.0//EN
METHOD:PUBLISH
X-PUBLISHED-TTL:P3D
REFRESH-INTERVAL:P3D
CALSCALE:GREGORIAN
BEGIN:VEVENT
DTSTART;VALUE=DATE:20130424
DTEND;VALUE=DATE:20130425
TRANSP:TRANSPARENT
X-MICROSOFT-CDO-ALLDAYEVENT:TRUE
SUMMARY:Triad Senior Day in Portage
DESCRIPTION:Wednesday\, April 24th\, 2013\n\nPortage Municipal Building\n\nRegistration begins at 8:00 a.m.\n\nProgram starts at 8:30 a.m. to 11:30 a.m.\n\n \n\nNo Charge for this event!  Door Prizes!!  Free Lunch!\n\n\n\nSchedule\n\n \n\n8:00 a.m. Registration & Vendor Visitation\n\n \n\n8:30 a.m. Welcome and Announcements \n\n \n\n8:35 a.m.   8:45 a.m.  Introduction of Vendors/Exhibit Booths\n\n \n\n8:45 a.m. - 9:20 a.m. 20 Myths About Alzheimer's-Carol Olson\, Outreach Specialist Alzheimer's & Dementia Alliance of Wisconsin Columbia/Sauk Regional Office\n\n \n\n9:20 a.m. - 9:30 a.m. Break and Vendor Visitation and Door Prize\n\n \n\n9:30 a.m. -10:10 a.m.   Protection from Medicare Fraud-Wisconsin SMP(Senior Medicare Patrol)-Kevin Brown\n\n \n\n10:10 a.m.-10:40 a.m.  Aging and Disability Resource Center-A.D.R.C.-Brenda Welsh-McLean Outreach Specialist for Columbia County A.D.R.C.        \n\n \n\n10:40 a.m. - 10:50 a.m.  Break & Vendor Visitation and Door Prize\n\n \n\n10:50 a.m. - 11:20 a.m.  Columbia County K-9 \, Darrell Ward-Columbia County Sheriff's Department\n\n \n\n11:20 a.m. -11:30 a.m.   Medication Collection-Partnering with the Drug Enforcement Agency-Penny Kiefer\, Lt. Portage Police Department\n\n \n\nReservations are required by April 22\, 2013\n\nTo register call:  Portage Police Department at 742-2174 between 8:00 a.m. and 4:30 p.m. Monday through Friday
X-ALT-DESC;FMTTYPE=text/html:<strong>Wednesday\, April 24th\, 2013</strong><br />\n<strong>Portage</strong><strong> Municipal Building</strong><br />\n<strong>Registration begins at 8:00 a.m.</strong><br />\n<strong>Program starts at 8:30 a.m. to 11:30 a.m.</strong><br />\n&nbsp\;<br />\n<strong>No Charge for this event!&nbsp\; Door Prizes!!&nbsp\; Free Lunch!</strong><br />\n<br />\n<span style="font-size: 11pt"><span style="font-family: arial\, sans-serif">Schedule</span></span><br />\n&nbsp\;<br />\n<span style="font-size: 11pt"><span style="font-family: arial\, sans-serif">8:00 a.m.&nbsp\;Registration &amp\; Vendor Visitation</span></span><br />\n&nbsp\;<br />\n<span style="font-size: 11pt"><span style="font-family: arial\, sans-serif">8:30 a.m. Welcome and Announcements </span></span><br />\n&nbsp\;<br />\n<span style="font-size: 11pt"><span style="font-family: arial\, sans-serif">8:35 a.m. &ndash\; 8:45 a.m.&nbsp\;&nbsp\;Introduction of Vendors/Exhibit Booths</span></span><br />\n&nbsp\;<br />\n<span style="font-size: 11pt"><span style="font-family: arial\, sans-serif">8:45 a.m. - 9:20 a.m.&nbsp\;20 Myths About Alzheimer&rsquo\;s-Carol Olson\, Outreach Specialist Alzheimer&#39\;s &amp\; Dementia Alliance of Wisconsin Columbia/Sauk Regional Office</span></span><br />\n&nbsp\;<br />\n<span style="font-size: 11pt"><span style="font-family: arial\, sans-serif">9:20 a.m. - 9:30 a.m.&nbsp\;Break and Vendor Visitation and Door Prize</span></span><br />\n&nbsp\;<br />\n<span style="font-size: 11pt"><span style="font-family: arial\, sans-serif">9:30 a.m. -10:10 a.m.&nbsp\;&nbsp\;&nbsp\;Protection from Medicare Fraud-Wisconsin SMP(Senior Medicare Patrol)-Kevin Brown</span></span><br />\n&nbsp\;<br />\n<span style="font-size: 11pt"><span style="font-family: arial\, sans-serif">10:10 a.m.-10:40 a.m.&nbsp\;&nbsp\;Aging and Disability Resource Center-A.D.R.C.-Brenda Welsh-McLean Outreach Specialist for Columbia County A.D.R.C.&nbsp\;&nbsp\;&nbsp\;&nbsp\;&nbsp\;&nbsp\;&nbsp\; </span></span><br />\n&nbsp\;<br />\n<span style="font-size: 11pt"><span style="font-family: arial\, sans-serif">10:40 a.m. - 10:50 a.m.&nbsp\;&nbsp\;Break &amp\; Vendor Visitation and Door Prize</span></span><br />\n&nbsp\;<br />\n<span style="font-size: 11pt"><span style="font-family: arial\, sans-serif">10:50 a.m. - 11:20 a.m.&nbsp\;&nbsp\;Columbia County K-9 \, Darrell Ward-Columbia County Sheriff&rsquo\;s Department</span></span><br />\n&nbsp\;<br />\n<span style="font-size: 11pt"><span style="font-family: arial\, sans-serif">11:20 a.m. -11:30 a.m.&nbsp\;&nbsp\;&nbsp\;Medication Collection-Partnering with the Drug Enforcement Agency-</span></span><span style="font-size: 11pt"><span style="font-family: arial\, sans-serif">Penny Kiefer\, Lt. Portage Police Department</span></span><br />\n&nbsp\;<br />\n<span style="font-size: 12px"><span style="font-family: arial">Reservations are required by April 22\, 2013<br />\nTo register call:&nbsp\; Portage Police Department at 742-2174 between 8:00 a.m. and 4:30 p.m. Monday through Friday</span></span>
LOCATION:
UID:e.374.8197
SEQUENCE:3
DTSTAMP:20260423T115404Z
URL:https://business.portagewi.com/events/details/triad-senior-day-in-portage-04-24-2013-8197
END:VEVENT

END:VCALENDAR
