BEGIN:VCALENDAR
VERSION:2.0
PRODID:-//ChamberMaster//Event Calendar 2.0//EN
METHOD:PUBLISH
X-PUBLISHED-TTL:P3D
REFRESH-INTERVAL:P3D
CALSCALE:GREGORIAN
BEGIN:VEVENT
DTSTART;VALUE=DATE:20201031
DTEND;VALUE=DATE:20201101
TRANSP:TRANSPARENT
X-MICROSOFT-CDO-ALLDAYEVENT:TRUE
SUMMARY:Trick or treat candy bags at Cricket
DESCRIPTION:"Trick or treating" will be held at Cricket in Portage\, 2830 New Pinery Rd. on Saturday\, October 31.\n\nThey will start handing out candy bags at Noon until there are no bags left. The store team will be dressing up in costumes to help spread the Halloween spirit!
X-ALT-DESC;FMTTYPE=text/html:<p style="font-family: arial\; background-color: rgb(255\, 255\, 255)\; margin: 0px\; padding: 0px\; font-size: 10pt\; overflow-wrap: break-word\;">&quot\;Trick or treating&quot\; will be held at&nbsp\;Cricket in Portage\, 2830 New Pinery Rd. on Saturday\, October 31.<br />\nThey&nbsp\;will start handing out candy bags at Noon&nbsp\;until there are no bags left.&nbsp\;The store team will be dressing up in costumes to help spread the Halloween spirit!</p>\n
LOCATION:
UID:e.374.27944
SEQUENCE:3
DTSTAMP:20260422T070617Z
URL:https://business.portagewi.com/events/details/trick-or-treat-candy-bags-at-cricket-27944
END:VEVENT

END:VCALENDAR
