BEGIN:VCALENDAR
VERSION:2.0
PRODID:-//ChamberMaster//Event Calendar 2.0//EN
METHOD:PUBLISH
X-PUBLISHED-TTL:P3D
REFRESH-INTERVAL:P3D
CALSCALE:GREGORIAN
BEGIN:VEVENT
DTSTART:20201001T170000Z
DTEND:20201001T173000Z
X-MICROSOFT-CDO-ALLDAYEVENT:FALSE
SUMMARY:Virtual Event - Aspirus Divine Savior Branding Celebration
DESCRIPTION:Virtual Event - Aspirus Divine Savior Branding Celebration. Join through Facebook as we go Live on October 1 at noon to celebrate Divine Savior joining the Aspirus System. The virtual link is here: https://fb.me/e/2YPX8Said
X-ALT-DESC;FMTTYPE=text/html:<div><span style="font-size:16px\;"><span style="font-family:arial\;"><span style="color: rgb(0\, 0\, 0)\;">Virtual Event - Aspirus Divine Savior Branding Celebration. J</span><span style="color: rgb(0\, 0\, 0)\;">oin through Facebook as we go Live on October 1 at noon to celebrate Divine Savior joining the Aspirus System. The virtual link is here: </span><a href="https://fb.me/e/2YPX8Said" rel="noopener noreferrer" style="font-size: 15px\; font-family: Calibri\, Helvetica\, Arial\, sans-serif\;" target="_blank">https://fb.me/e/2YPX8Said</a></span></span></div>\n
LOCATION:
UID:e.374.27851
SEQUENCE:3
DTSTAMP:20260422T070324Z
URL:https://business.portagewi.com/events/details/virtual-event-aspirus-divine-savior-branding-celebration-27851
END:VEVENT

END:VCALENDAR
