BEGIN:VCALENDAR
VERSION:2.0
PRODID:-//ChamberMaster//Event Calendar 2.0//EN
METHOD:PUBLISH
X-PUBLISHED-TTL:P3D
REFRESH-INTERVAL:P3D
CALSCALE:GREGORIAN
BEGIN:VEVENT
DTSTART:20201024T130000Z
DTEND:20201024T150000Z
X-MICROSOFT-CDO-ALLDAYEVENT:FALSE
SUMMARY:Winter Vehicle Storage
DESCRIPTION:Looking to store a boat\, camper\, motorcycle\, or any other vehicle for the winter? We offer storage at the Portage Fairgrounds from mid-October through mid-April. Registration Forms will be distributed and completed on site when you arrive. Payment is due upon move in and must be paid via check.
X-ALT-DESC;FMTTYPE=text/html:Looking to store a boat\, camper\, motorcycle\, or any other vehicle for the winter? We offer storage at the Portage Fairgrounds from mid-October through mid-April. Registration Forms will be distributed and completed on site when you arrive. Payment is due upon move in and must be paid via check.
LOCATION:Portage Fairgrounds
UID:e.374.27919
SEQUENCE:3
DTSTAMP:20260422T070324Z
URL:https://business.portagewi.com/events/details/winter-vehicle-storage-10-24-2020-27919
END:VEVENT

END:VCALENDAR
