BEGIN:VCALENDAR
VERSION:2.0
PRODID:-//ChamberMaster//Event Calendar 2.0//EN
METHOD:PUBLISH
X-PUBLISHED-TTL:P3D
REFRESH-INTERVAL:P3D
CALSCALE:GREGORIAN
BEGIN:VEVENT
DTSTART:20201128T160000Z
DTEND:20201128T180000Z
X-MICROSOFT-CDO-ALLDAYEVENT:FALSE
SUMMARY:Wreath Decorating Workshop at Edgewater
DESCRIPTION:Join us for this workshop to decorate a fresh evergreen wreath. We will help you\, step by step\, making a beautiful wreath that you can be proud of!  Fee based on materials used.\n\nSocial distancing and all safety precautions will be in place. Masks are required.
X-ALT-DESC;FMTTYPE=text/html:<span style="font-size:14px\;"><span class="fsl">Join us for this workshop to decorate a fresh evergreen wreath. We will help you\, step by step\, making a beautiful wreath that you can be proud of!&nbsp\; Fee based on materials used.</span><br />\nSocial distancing and all safety precautions will be in place. Masks are required.</span>
LOCATION:Edgewater Home and Garden 2957 Highway CX\, Portage\, Wisconsin 53901
UID:e.374.26844
SEQUENCE:3
DTSTAMP:20260422T083655Z
URL:https://business.portagewi.com/events/details/wreath-decorating-workshop-at-edgewater-26844
END:VEVENT

END:VCALENDAR
